BEGIN:VCALENDAR
VERSION:2.0
PRODID:-//wp-events-plugin.com//7.2.3.1//EN
TZID:Europe/Berlin
X-WR-TIMEZONE:Europe/Berlin
BEGIN:VEVENT
UID:14733@rauszeit-termine.org
DTSTART;TZID=Europe/Berlin:20250315T183000
DTEND;TZID=Europe/Berlin:20250315T183000
DTSTAMP:20250314T163034Z
URL:https://rauszeit-termine.org/events/demo-zum-internationalen-tag-gegen
 -polizeigewalt/
SUMMARY:Demo zum internationalen Tag gegen Polizeigewalt
DESCRIPTION:Am Samstag ist internationaler Tag gegen Polizeigewalt.  \nZu d
 iesem Anlass rufen wir auf\, sich der antifaschistischen Demonstration anz
 uschließen!\n\nAuch in Hannover gehören Racial Profiling und Polizeigewa
 lt gegen migrantisierte Menschen\, queere Personen und Antifas zum erschre
 ckenden Alltag. \n\nMit 22 Menschen hat die Polizei bundesweit im vergange
 nen Jahr so viele Leute erschossen wie nie in diesem Jahrtausend! Auch int
 ernational werden Menschen\, die sich zum Beispiel für Klimaschutz einset
 zen von den Repressionsbehörden eingeschüchtert\, verfolgt und ermordet.
  In den USA sehen wir seit Trumps Machtübernahme wie vermeintliche Migran
 t:innen teils auf dem Weg zur Arbeit von der Zivilpolizei verhaftet werden
 \, um sie abzuschieben. Auch in Deutschland wird die Polizei die rigorose 
 Abschiebepolitik unter Kanzler in spe Friedrich Merz ohne Rücksicht und g
 ewaltvoll durchsetzen. Wir stellen uns entschlossen gegen jegliche Polizei
 gewalt und staatliche Repression!\n\nStartpunkt ist der Welfenplatz um 18.
 30 Uhr. \nVon dort werden wir durch die City bis zum Halim-Dener-Platz lau
 fen.\nKommt bitte in schwarzer Kleidung und bringt Banner sowie weitere\, 
 nützliche Utensilien\, wie Regenschirme bei wechselhaften Wetter mit. \nN
 o Justice\, No Peace!✊✊✊
ATTACH;FMTTYPE=image/jpeg:https://rauszeit-termine.org/wp-content/uploads/
 2025/03/no-justice-no-peace.webp
CATEGORIES:Demo
LOCATION:Welfenplatz\, Am Welfenplatz\, Hannover\, 30161\, Deutschland
X-APPLE-STRUCTURED-LOCATION;VALUE=URI;X-ADDRESS=Am Welfenplatz\, Hannover\,
  30161\, Deutschland;X-APPLE-RADIUS=100;X-TITLE=Welfenplatz:geo:0,0
END:VEVENT
BEGIN:VTIMEZONE
TZID:Europe/Berlin
X-LIC-LOCATION:Europe/Berlin
BEGIN:STANDARD
DTSTART:20241027T020000
TZOFFSETFROM:+0200
TZOFFSETTO:+0100
TZNAME:CET
END:STANDARD
END:VTIMEZONE
END:VCALENDAR