BEGIN:VCALENDAR
VERSION:2.0
PRODID:-//wp-events-plugin.com//7.2.3.1//EN
TZID:Europe/Berlin
X-WR-TIMEZONE:Europe/Berlin
BEGIN:VEVENT
UID:7182@rauszeit-termine.org
DTSTART;TZID=Europe/Berlin:20210327T140000
DTEND;TZID=Europe/Berlin:20210327T160000
DTSTAMP:20210321T184502Z
URL:https://rauszeit-termine.org/events/demo-zum-european-housing-action-d
 ay/
SUMMARY:Demo zum European Housing Action Day
DESCRIPTION:Wohnraum für Alle! Gegen Gentrifizierung und Wohnungslosigkeit
 !\n\nHeraus zum europaweiten Housing Action Day\n\nBei zweistelligen Minus
 graden und Pandemie mussten diesen Winter Menschen draußen schlafen\, wä
 hrend viele Wohnungen und Hotelzimmer leer standen. In Hannover wurden min
 destens drei wohnungslose Menschen draußen tot aufgefunden. Diese Mensche
 n sollen zwar nicht erfroren sein\, aber dass ihr Tod die Folge ihrer Wohn
 ungslosigkeit war\, liegt nahe. Die Maßnahmen\, welche die Stadt zur Unte
 rbringung von Wohnungslosen unternommen hat\, kamen zu spät\, waren nicht
  ausreichend und entsprachen in den meisten Fällen nicht den Bedürfnisse
 n der Betroffenen. Viele Wohnungslose ziehen es vor\, auf der Straße zu s
 chlafen\, statt in die Massenunterkünfte zu gehen\, da die Bedingungen do
 rt menschenunwürdig sind. Auch wenn nun endlich der Frühling kommt und d
 ie Temperaturen wieder steigen\, bleibt Wohnungslosigkeit weiterhin ein Pr
 oblem. Auch zu wärmeren Jahreszeiten sollte kein Mensch gezwungen sein\, 
 auf der Straße zu schlafen.Wir begrüßen\, dass immer mehr Wohnungslose 
 ihre Situation nicht mehr tatenlos hinnehmen. Bereits im vergangenen Dezem
 ber gab es die Besetzung eines städtischen Gebäudes gemeinsam mit Wohnun
 gslosen. Leider ließ die Stadtverwaltung das Gebäude unmittelbar räumen
 . Umso mehr haben wir uns gefreut nach der Räumung von stillen Besetzunge
 n durch Wohnungslose zu hören.\nWährend die Einen ihre Wohnungen schon v
 erloren haben\, müssen Andere im Angesicht von Gentrifizierung und steige
 nden Mieten um diese fürchten. Auch während der Pandemie\, in welcher vi
 ele Menschen endgültig in eine Existenzkrise geraten sind\, streichen Imm
 obilienkonzerne weiter Profite ein. Gerade in angesagten Vierteln\, wie de
 r Nordstadt oder in Linden\, steigt die Nachfrage an Wohnraum enorm. Diese
  macht diese Viertel für Immobilienkonzerne als Profitquelle attraktiv. A
 ber auch in anderen Stadtteilen versuchen gerade große Konzerne wie Vonov
 ia oder die Deutsche Wohnen maximale Rendite mit ihren Wohnungen zu machen
 . Doch auch hier formiert sich immer mehr Widerstand: Seien es Initiativen
  von Mieter*innen\, die Kampagne „Deutsche Wohnen enteignen“ oder mili
 tante Angriffe auf die Infrastruktur der Wohnungskonzerne.\nDie Kämpfe ge
 gen Wohnungslosigkeit und Gentrifizierung gehören zusammen. Lasst sie uns
  zusammen führen und gemeinsam für eine Stadt kämpfen\, die uns Allen g
 ehört\, in der wir Alle da wohnen können wo wir wollen und die wir gemei
 nsam nach unseren Vorstellungen gestalten. Kommt daher anlässlich des eur
 opaweiten Housing Action Days mit uns auf die Straße.\nWenn ihr von leers
 tehendem Wohnraum wisst oder von Wohnungslosigkeit betroffen seid\, wird e
 s auf der Demo die Möglichkeit geben\, sich auszutauschen. Wir sehen uns!
 \n\nSamstag\, 27. März\, 14 Uhr – Küchengartenplatz\, Hannover\nHaltet
  bitte Abstand zueinander und tragt medizinische Masken\n\n\n\n&nbsp\;
CATEGORIES:Demo
LOCATION:Küchengartenplatz\, Am Küchengarten\, Hannover\, Deutschland
X-APPLE-STRUCTURED-LOCATION;VALUE=URI;X-ADDRESS=Am Küchengarten\, Hannover
 \, Deutschland;X-APPLE-RADIUS=100;X-TITLE=Küchengartenplatz:geo:0,0
END:VEVENT
BEGIN:VTIMEZONE
TZID:Europe/Berlin
X-LIC-LOCATION:Europe/Berlin
BEGIN:STANDARD
DTSTART:20201025T020000
TZOFFSETFROM:+0200
TZOFFSETTO:+0100
TZNAME:CET
END:STANDARD
END:VTIMEZONE
END:VCALENDAR