BEGIN:VCALENDAR
VERSION:2.0
PRODID:-//wp-events-plugin.com//7.2.3.1//EN
TZID:Europe/Berlin
X-WR-TIMEZONE:Europe/Berlin
BEGIN:VEVENT
UID:13885@rauszeit-termine.org
DTSTART;TZID=Europe/Berlin:20250214T203000
DTEND;TZID=Europe/Berlin:20250214T203000
DTSTAMP:20241217T125754Z
URL:https://rauszeit-termine.org/events/dave-collide-the-everkids-finder/
SUMMARY:Dave Collide + The Everkids / Finder
DESCRIPTION:14.02.2025 - Doors 20.30h - Bands 21.00h\n\nℹ️ ZUGANG NUR 
 ÜBER TREPPE MÖGLICH - WC NICHT ROLLSTUHLGERECHT - KEIN STROBO/NEBEL - KE
 INE FOTO-/VIDEOAUFNAHMEN - DIESE SHOW IST RAUCHFREI!\n\nℹ️ STAIRS ONLY
  - RESTROOM NOT WHEELCHAIR ACCESSIBLE - NO FLASHING LIGHTS OR FOG - NO PHO
 TOS OR VIDEOS - SMOKING IS NOT ALLOWED
ATTACH;FMTTYPE=image/jpeg:https://rauszeit-termine.org/wp-content/uploads/
 2024/12/dave-collide.jpg
CATEGORIES:Konzert
LOCATION:Stumpf\, Welfengarten 2c\, Hannover\, Niedersachsen\, 30167\, Deut
 schland
X-APPLE-STRUCTURED-LOCATION;VALUE=URI;X-ADDRESS=Welfengarten 2c\, Hannover\
 , Niedersachsen\, 30167\, Deutschland;X-APPLE-RADIUS=100;X-TITLE=Stumpf:ge
 o:0,0
END:VEVENT
BEGIN:VTIMEZONE
TZID:Europe/Berlin
X-LIC-LOCATION:Europe/Berlin
BEGIN:STANDARD
DTSTART:20241027T020000
TZOFFSETFROM:+0200
TZOFFSETTO:+0100
TZNAME:CET
END:STANDARD
END:VTIMEZONE
END:VCALENDAR