BEGIN:VCALENDAR
VERSION:2.0
PRODID:-//wp-events-plugin.com//7.2.3.1//EN
TZID:Europe/Berlin
X-WR-TIMEZONE:Europe/Berlin
BEGIN:VEVENT
UID:14724@rauszeit-termine.org
DTSTART;TZID=Europe/Berlin:20250329T150000
DTEND;TZID=Europe/Berlin:20250329T150000
DTSTAMP:20250312T202013Z
URL:https://rauszeit-termine.org/events/das-queerfeministische-hebammenkol
 lektiv-cocoon-stellt-sich-vor-was-braucht-es-fuer-eine-queersensible-gebur
 tshilfliche-versorgung/
SUMMARY:Das queerfeministische Hebammen*kollektiv Cocoon stellt sich vor - 
 was braucht es für eine queersensible geburtshilfliche Versorgung?
DESCRIPTION:Die UNISEX Hochschultage zum Geschlechterverhältnis und darüb
 er hinaus sind eine Veranstaltungsreihe\, die in diesem Jahr gemeinsam vom
  AStA der LUH\, dem AFK\, der Kritischen Medizin Hannover und dem AStA der
  MHH organisiert wird. In der Reihe werden verschiedene feministische Them
 en intersektional weitergedacht\, vertieft und für die Studierendenschaft
  zugänglich gemacht. \n\nDie Veranstaltungsreihe in diesem Jahr beschäft
 igt sich mit verschiedenen Aspekten einer feministischen Utopie\, und wie 
 diese bereits heute gelebt und umgesetzt werden kann.\n\nFragen wie wofür
  wir kämpfen\, was die Bedeutung von feministischen Freiräumen für das 
 Entstehen von Utopien ist und was eigentlich schon jeden Tag geschafft wir
 d\, soll sich in der diesjährigen Reihe angenähert werden.\n\nDazu wird 
 die Reihe theoretischen Input in Form von Vorträgen und Lesungen geben\, 
 es werden aber auch praktische Handlungsoptionen in Form von Workshops auf
 gezeigt. Außerdem wird es eine Filmvorführung geben.\n\nIn diesem Sinne:
  Fight and Riot like a Girl*\, viel Spaß bei den diesjährigen UNISEX Hoc
 hschultagen!\n\n
ATTACH;FMTTYPE=image/jpeg:https://rauszeit-termine.org/wp-content/uploads/
 2025/03/unitsex0.jpg
CATEGORIES:Vortrag
LOCATION:Elchkeller\, Schneiderberg 50\, Hannover\, Deutschland
X-APPLE-STRUCTURED-LOCATION;VALUE=URI;X-ADDRESS=Schneiderberg 50\, Hannover
 \, Deutschland;X-APPLE-RADIUS=100;X-TITLE=Elchkeller:geo:0,0
END:VEVENT
BEGIN:VTIMEZONE
TZID:Europe/Berlin
X-LIC-LOCATION:Europe/Berlin
BEGIN:STANDARD
DTSTART:20241027T020000
TZOFFSETFROM:+0200
TZOFFSETTO:+0100
TZNAME:CET
END:STANDARD
END:VTIMEZONE
END:VCALENDAR