BEGIN:VCALENDAR
VERSION:2.0
PRODID:-//wp-events-plugin.com//7.2.3.1//EN
TZID:Europe/Berlin
X-WR-TIMEZONE:Europe/Berlin
BEGIN:VEVENT
UID:14224@rauszeit-termine.org
DTSTART;TZID=Europe/Berlin:20250314T200000
DTEND;TZID=Europe/Berlin:20250314T214000
DTSTAMP:20250125T100754Z
URL:https://rauszeit-termine.org/events/das-ende-von-eddy/
SUMMARY:DAS ENDE VON EDDY – Nach dem Roman von Édouard Louis
DESCRIPTION:GASTSPIEL von Tommy Wiesner &gt\; Aachen/Hannover\n\nEddy wäch
 st in einer abgehängten Welt auf – Gewalt\, harte Arbeit und klare Roll
 enbilder sind an der Tagesordnung. Eddy aber ist anders\, er passt nicht h
 inein und das bekommt er täglich zu spüren. Seine Jugend wird zum Kampf 
 um sich selbst – zuletzt bleibt nur eine Option: Raus hier.\n\nÉdouard 
 Louis‘ autobiografisches und international erfolgreiches Debüt ist ein 
 Roman\, der sich den gesellschaftlichen Unterdrückungen von Einzelnen\, F
 amilien und ganzen sozialen Milieus widmet und er stellt die Frage: Wie en
 tfliehe ich der Welt\, aus der ich gemacht bin in eine\, in der ich noch n
 ie gewesen bin?\n\nNachdem Tommy Wiesner letztes Jahr bereits mit seinem P
 rojekt DIE FREIHEIT EINER FRAU am THEATER AN DER GLOCKSEE zu Gast war\, da
 s sich mit dem gleichnamigen Buch von Édouard Louis und dem Lebensweg sei
 ner Mutter befasste\, kommt er mit seinem Solo DAS ENDE VON EDDY\, der aut
 obiografischen Befreiungsgeschichte über Édouard Louis Kindheit und Juge
 nd an das THEATER AN DER GLOCKSEE zurück.\n\nInfos + Tickets → theaterg
 locksee.de\n\n
CATEGORIES:LGBT*I*Q,Theater
LOCATION:THEATER AN DER GLOCKSEE\, Glockseestr. 35\, Hinterhof\, Hannover\,
  Niedersachsen\, 30169\, Deutschland
X-APPLE-STRUCTURED-LOCATION;VALUE=URI;X-ADDRESS=Glockseestr. 35\, Hinterhof
 \, Hannover\, Niedersachsen\, 30169\, Deutschland;X-APPLE-RADIUS=100;X-TIT
 LE=THEATER AN DER GLOCKSEE:geo:0,0
END:VEVENT
BEGIN:VTIMEZONE
TZID:Europe/Berlin
X-LIC-LOCATION:Europe/Berlin
BEGIN:STANDARD
DTSTART:20241027T020000
TZOFFSETFROM:+0200
TZOFFSETTO:+0100
TZNAME:CET
END:STANDARD
END:VTIMEZONE
END:VCALENDAR