BEGIN:VCALENDAR
VERSION:2.0
PRODID:-//wp-events-plugin.com//7.2.3.1//EN
TZID:Europe/Berlin
X-WR-TIMEZONE:Europe/Berlin
BEGIN:VEVENT
UID:149802@rauszeit-termine.org
DTSTART;TZID=Europe/Berlin:20250905T200000
DTEND;TZID=Europe/Berlin:20250905T210000
DTSTAMP:20250805T090348Z
URL:https://rauszeit-termine.org/events/dare-to-care-tanzstueck-von-tiago-
 manquinho-mit-dem-ensemble-acton/
SUMMARY:DARE TO CARE - Tanzstück von Tiago Manquinho mit dem ensemble act:
 on
DESCRIPTION:Gastproduktion &gt\; Tanzstück von Tiago Manquinho mit dem ens
 emble act:on\n\nWie kann Fürsorge in einer von Krisen\, Ungleichheit und 
 Rückzug geprägten Gegenwart gelebt werden?\nDare to Care stellt diese Fr
 age ins Zentrum einer choreografischen Auseinandersetzung\, die Fürsorge 
 nicht als Schwäche\, sondern als widerständige Praxis versteht\, gegen A
 usgrenzung\, Vereinzelung und normierende Vorstellungen von Nähe\, Autono
 mie und Gemeinschaft.\nDas Stück verhandelt Fürsorge als politisches Han
 deln: Wer wird gesehen? Wer wird geschützt? Wessen Bedürfnisse gelten al
 s legitim und wessen nicht?\nAusgehend von den Perspektiven der »Disabili
 ty Justice« richtet Dare to Care den Blick auf Körper\, die in unserer G
 esellschaft als »abhängig«\, »abweichend« oder »unsichtbar« markier
 t werden. Die Produktion begreift gegenseitige Abhängigkeit nicht als Mak
 el\, sondern als Realität und als Potenzial solidarischer Beziehungen.\nD
 are to Care fragt: Wie lässt sich Verantwortung füreinander übernehmen\
 , ohne in Machtverhältnisse zu verfallen? Was bedeutet es\, füreinander 
 da zu sein\, körperlich\, emotional\, sozial – jenseits von Leistungsdr
 uck und gesellschaftlicher Norm?\nDas Stück lädt dazu ein\, Fürsorge ni
 cht als private Aufgabe\, sondern als kollektive\, intersektional gedachte
  Praxis zu verstehen. Eine Einladung\, neue Formen des Miteinanders zu ent
 wickeln zwischen Körpern\, Biografien und gesellschaftlichen Realitäten.
 \n\nPremiere am 5. September 2025 / weiterer Termin am 6. September 2025\n
 Beginn 20 Uhr Eintritt Normal 18 EUR / Ermäßigt 13 EUR / Studierende &am
 p\; Kolleg*innen 9 EUR / Soliticket 0 EUR\nInfos + Tickets → theatergloc
 ksee.de\n\nVorstellung mit Audiodeskription.\nInformationen zur Barrierefr
 eiheit → theaterglocksee.de/daretocare-barrierefreiheit\nKünstlerische 
 Leitung Tiago Manquinho Choreografie Tiago Manquinho in Zusammenarbeit mit
  den Tänzer:nnen Tanz Victoria Antonova\, Irene Giró\, Paulina Porwollik
  Erarbeitung Audiodeskription Lena Michels Produktionsleitung Olivia Hotz 
 Produktionsmitarbeit P. (Paula) Emmrich Beratung Bühnenraum Katharina And
 es Eine Koproduktion mit dem Theater an der Glocksee und dem Jahrmarktthea
 ter Gefördert durch Land Niedersachsen\, Kulturbüro der Landeshauptstadt
  Hannover\, Die Braunschweigische Stiftung\, Stiftung Niedersachsen\, Stad
 t Braunschweig (Kulturinstitut) Audiodeskription gefördert durch Aktion M
 ensch Mit freundlicher Unterstützung von TANZKOOP Niedersachsen und dem L
 aFT Niedersachsen – Landesverband Freie Darstellende Künste\n
CATEGORIES:Performance,Theater
LOCATION:THEATER AN DER GLOCKSEE\, Glockseestr. 35\, Hinterhof\, Hannover\,
  Niedersachsen\, 30169\, Deutschland
X-APPLE-STRUCTURED-LOCATION;VALUE=URI;X-ADDRESS=Glockseestr. 35\, Hinterhof
 \, Hannover\, Niedersachsen\, 30169\, Deutschland;X-APPLE-RADIUS=100;X-TIT
 LE=THEATER AN DER GLOCKSEE:geo:0,0
END:VEVENT
BEGIN:VTIMEZONE
TZID:Europe/Berlin
X-LIC-LOCATION:Europe/Berlin
BEGIN:DAYLIGHT
DTSTART:20250330T030000
TZOFFSETFROM:+0100
TZOFFSETTO:+0200
TZNAME:CEST
END:DAYLIGHT
END:VTIMEZONE
END:VCALENDAR