BEGIN:VCALENDAR
VERSION:2.0
PRODID:-//wp-events-plugin.com//7.2.3.1//EN
TZID:Europe/Berlin
X-WR-TIMEZONE:Europe/Berlin
BEGIN:VEVENT
UID:154447@rauszeit-termine.org
DTSTART;TZID=Europe/Berlin:20260418T210000
DTEND;TZID=Europe/Berlin:20260418T210000
DTSTAMP:20260403T140221Z
URL:https://rauszeit-termine.org/events/casino-party-2/
SUMMARY:Casino Party
DESCRIPTION:Am 18.04. ist es wieder soweit\, die berühmt-berüchtigte Casi
 no-Party steht an! Macht euch bereit\, euer hart erspartes (Spiel-)Geld zu
  verspielen\, zu tanzen und euch 1 bis 8 Drinks zu gönnen. Um 18:00 Uhr s
 tartet das Doppelkopf-Turnier. Ab 21:00 Uhr gibt es Musik\, Tanz &amp\; Gl
 ücksspiel.\nWir freuen uns auf euch\, um gemeinsam einen glamourösen Abe
 nd zu verbringen\, schick in Abendgarderobe zu tanzen und für Solizwecke 
 unser Geld zu verprassen. &#x2728\;
ATTACH;FMTTYPE=image/jpeg:https://rauszeit-termine.org/wp-content/uploads/
 2026/02/Flyer-Casino-2026.jpeg
CATEGORIES:Party
LOCATION:Sturmglocke\, Klaus-Müller-Kilian-Weg 1\, Hannover\, 30167\, Deut
 schland
X-APPLE-STRUCTURED-LOCATION;VALUE=URI;X-ADDRESS=Klaus-Müller-Kilian-Weg 1\
 , Hannover\, 30167\, Deutschland;X-APPLE-RADIUS=100;X-TITLE=Sturmglocke:ge
 o:0,0
END:VEVENT
BEGIN:VTIMEZONE
TZID:Europe/Berlin
X-LIC-LOCATION:Europe/Berlin
BEGIN:DAYLIGHT
DTSTART:20260329T030000
TZOFFSETFROM:+0100
TZOFFSETTO:+0200
TZNAME:CEST
END:DAYLIGHT
END:VTIMEZONE
END:VCALENDAR