BEGIN:VCALENDAR
VERSION:2.0
PRODID:-//wp-events-plugin.com//7.2.3.1//EN
TZID:Europe/Berlin
X-WR-TIMEZONE:Europe/Berlin
BEGIN:VEVENT
UID:156511@rauszeit-termine.org
DTSTART;TZID=Europe/Berlin:20260426T170000
DTEND;TZID=Europe/Berlin:20260426T190000
DTSTAMP:20260422T173354Z
URL:https://rauszeit-termine.org/events/buecherplausch-im-libresso-liberta
 er/
SUMMARY:Bücherplausch im Libresso Libertär
DESCRIPTION:++Diesen Sonntag im Libresso!++\n&#x1f497\;Einladung zum Büche
 rplausch im Libresso Libertär&#x1f497\;\n\nAm Sonntag\, 26. April 2026\nU
 m 17 Uhr\nIn der Fröbelstraße 5\n\nDu liest gerne Bücher und möchtest 
 deine Lieblingsgeschichten mit anderen teilen?\nBeim Bücherplausch hast d
 u die Gelegenheit\, Bücher vorzustellen\, die dich bewegt haben\, daraus 
 vorzulesen und dich mit anderen über über sie auszutauschen.\nOb Lieblin
 gsroman\, Sachbuch oder Klassiker – alles ist willkommen.\nIn gemütlich
 er Atmosphäre mit Kaffee und Kuchen wollen wir gemeinsam lesen\, zuhören
  und ins Gespräch kommen.\nBring einfach das Buch mit\, auf das du Lust h
 ast.\nWir freuen uns auf dich und deine Geschichten!
ATTACH;FMTTYPE=image/jpeg:https://rauszeit-termine.org/wp-content/uploads/
 2026/04/rauszeit26.04.jpeg
CATEGORIES:Sonstiges
LOCATION:Libresso Libertär\, Fröbelstraße 5\, Hannover\, 30451\, Deutsch
 land
X-APPLE-STRUCTURED-LOCATION;VALUE=URI;X-ADDRESS=Fröbelstraße 5\, Hannover
 \, 30451\, Deutschland;X-APPLE-RADIUS=100;X-TITLE=Libresso Libertär:geo:0
 ,0
END:VEVENT
BEGIN:VTIMEZONE
TZID:Europe/Berlin
X-LIC-LOCATION:Europe/Berlin
BEGIN:DAYLIGHT
DTSTART:20260329T030000
TZOFFSETFROM:+0100
TZOFFSETTO:+0200
TZNAME:CEST
END:DAYLIGHT
END:VTIMEZONE
END:VCALENDAR