BEGIN:VCALENDAR
VERSION:2.0
PRODID:-//wp-events-plugin.com//7.2.3.1//EN
TZID:Europe/Berlin
X-WR-TIMEZONE:Europe/Berlin
BEGIN:VEVENT
UID:6999@rauszeit-termine.org
DTSTART:20201212T120000Z
DTEND:20201212T140000Z
DTSTAMP:20201127T142508Z
URL:https://rauszeit-termine.org/events/break-free-fuer-eine-welt-ohne-kna
 este-mauern-grenzen-kundgebung-gegen-abschiebehaft/
SUMMARY:Break Free! Für eine Welt ohne Knäste\, Mauern\, Grenzen! Kundgeb
 ung gegen Abschiebehaft
DESCRIPTION:\n\n"Am 8. Dezember 2000 hat sich der 17-jährige Arumugasamy S
 ubramaniam im Abschiebe­gefängnis Hannover-Langenhagen das Leben genomme
 n. Erst wenige Monate zuvor\, im Mai 2000 wurde die JVA als Niedersachsens
  zentrales Abschiebegefängnis in Betrieb genommen. Direkt am Flughafen in
  drei Gebäuden eines ehemaligen Kasernengeländes\, die noch in den 90er 
 Jahren einmal Teil der „Zentralen Aufnahmestelle für Asylsuchende“ wa
 ren\, kann der Ort symbolträchtiger nicht sein. Hier werden Menschen aus 
 Niedersachsen und in Amtshilfe auch aus anderen Bundes­ländern inhaftier
 t\, um ihre Abschiebung durchzusetzen. (...)\nDie Inhaftierung ist der wei
 testgehende gesetzlich zugelassene Eingriff des Staates in die persön­li
 chen Rechte von Menschen und die schärfste Maßnahme innerhalb der Abschi
 ebemaschinerie\, um die zwangsweise Ausreise von Menschen durchzusetzen. B
 is zu 18 Monate können Menschen eingesperrt werden\, ohne dass sie eine S
 traftat begangen hätten. (...)\nAbschiebegefängnisse sind Ausdruck eines
  gnadenlosen Willens\, ein Migrationsregime durch­zusetzen\, der seine En
 tsprechung an den EU-Außengrenzen in Grenzzäunen\, illegalen Pushbacks\,
  Sabotage von ziviler Seenotrettung oder konkreten z.T. tödlichen Angriff
 en durch Frontex und Grenzschutztruppen auf Schutz suchende Menschen finde
 t. (...)\nWir nehmen den 20. Jahrestag des Todes von Arumugasamy Subramani
 am zum Anlass\, an die Opfer der unmenschlichen Abschiebemaschinerie zu er
 innern und die Beendigung von Abschiebe­haft zu fordern. Wir protestieren
  gegen die Ungerechtigkeit und Unmenschlichkeit von Abschie­bungen.\nWir 
 wollen deutlich machen\, dass wir uns gegen die deutsche und europäische 
 Politik der Abschottung\, Ausgrenzung und Entrechtung stellen und für ein
 e solidarische Gesellschaft kämpfen\, in der das Recht auf Bewegungsfreih
 eit weltweit gilt."\n\nBreak Free!\nFür eine Welt ohne Knäste\, Mauern\,
  Grenzen!\nWeg mit der Abschiebehaft!\n\nKommt zur Kundgebung \nam Samstag
 \, 12.12.2020\, um 12.00 Uhr\nErnst-August-Platz\n\nHier der gesamte Aufru
 f als pdf: https://navdemhannover.blackblogs.org/wp-content/uploads/sites/
 201/2020/11/Aufruf_BreakFree-Kundgebung_12.12.2020.pdf\n\nEs rufen auf:\nA
 ntifa L\, Autonomes Feministisches Kollektiv\, Frauenrat Ronahî Hannover\
 , NAV-DEM Hannover\, Rote Hilfe OG Hannover\, Solinet Hannover
CATEGORIES:Kundgebung
LOCATION:Ernst-August-Platz\, Ernst-August-Platz\, Hannover\, Deutschland
X-APPLE-STRUCTURED-LOCATION;VALUE=URI;X-ADDRESS=Ernst-August-Platz\, Hannov
 er\, Deutschland;X-APPLE-RADIUS=100;X-TITLE=Ernst-August-Platz:geo:0,0
END:VEVENT
END:VCALENDAR