BEGIN:VCALENDAR
VERSION:2.0
PRODID:-//wp-events-plugin.com//7.2.3.1//EN
TZID:Europe/Berlin
X-WR-TIMEZONE:Europe/Berlin
BEGIN:VEVENT
UID:13810@rauszeit-termine.org
DTSTART;TZID=Europe/Berlin:20250111T200000
DTEND;TZID=Europe/Berlin:20250111T214000
DTSTAMP:20241120T123930Z
URL:https://rauszeit-termine.org/events/blindgaenger-9/
SUMMARY:BLINDGÄNGER
DESCRIPTION:BLINDGÄNGER – Theaterprojekt über Fingerspitzengefühl in e
 xplosiven Zeiten
CATEGORIES:Performance,Theater
LOCATION:THEATER AN DER GLOCKSEE\, Glockseestr. 35\, Hinterhof\, Hannover\,
  Niedersachsen\, 30169\, Deutschland
X-APPLE-STRUCTURED-LOCATION;VALUE=URI;X-ADDRESS=Glockseestr. 35\, Hinterhof
 \, Hannover\, Niedersachsen\, 30169\, Deutschland;X-APPLE-RADIUS=100;X-TIT
 LE=THEATER AN DER GLOCKSEE:geo:0,0
END:VEVENT
BEGIN:VTIMEZONE
TZID:Europe/Berlin
X-LIC-LOCATION:Europe/Berlin
BEGIN:STANDARD
DTSTART:20241027T020000
TZOFFSETFROM:+0200
TZOFFSETTO:+0100
TZNAME:CET
END:STANDARD
END:VTIMEZONE
END:VCALENDAR