BEGIN:VCALENDAR
VERSION:2.0
PRODID:-//wp-events-plugin.com//7.2.3.1//EN
TZID:Europe/Berlin
X-WR-TIMEZONE:Europe/Berlin
BEGIN:VEVENT
UID:150521@rauszeit-termine.org
DTSTART;TZID=Europe/Berlin:20251025T190000
DTEND;TZID=Europe/Berlin:20251025T230000
DTSTAMP:20251008T135230Z
URL:https://rauszeit-termine.org/events/birthday-bash/
SUMMARY:Birthday Bash
DESCRIPTION:Konzert mit Briefbombe (Post-Hardcore aus Hamburg)\, Gaygasm (P
 unk aus Hannover) und Dusty Dawn (Hardcore-Punk aus Hannover)\nEinlass 19.
 00 Uhr \nBand gegen 20.00 Uhr\nFalls ihr wenig oder keine Kohle habt\, ko
 mmt ihr trotzdem rein!
CATEGORIES:Konzert
LOCATION:Sturmglocke\, Klaus-Müller-Kilian-Weg 1\, Hannover\, 30167\, Deut
 schland
X-APPLE-STRUCTURED-LOCATION;VALUE=URI;X-ADDRESS=Klaus-Müller-Kilian-Weg 1\
 , Hannover\, 30167\, Deutschland;X-APPLE-RADIUS=100;X-TITLE=Sturmglocke:ge
 o:0,0
END:VEVENT
BEGIN:VTIMEZONE
TZID:Europe/Berlin
X-LIC-LOCATION:Europe/Berlin
BEGIN:DAYLIGHT
DTSTART:20250330T030000
TZOFFSETFROM:+0100
TZOFFSETTO:+0200
TZNAME:CEST
END:DAYLIGHT
END:VTIMEZONE
END:VCALENDAR