BEGIN:VCALENDAR
VERSION:2.0
PRODID:-//wp-events-plugin.com//7.2.3.1//EN
TZID:Europe/Berlin
X-WR-TIMEZONE:Europe/Berlin
BEGIN:VEVENT
UID:6881@rauszeit-termine.org
DTSTART:20201114T100000Z
DTEND:20201114T100000Z
DTSTAMP:20201020T133656Z
URL:https://rauszeit-termine.org/events/bipoc-empowerment-tanz-workshop-fu
 er-flintaq/
SUMMARY:BIPOC EMPOWERMENT-TANZ-WORKSHOP FÜR FLINTAQ*
DESCRIPTION:Wie gehe ich mit meinem Körper um? Wie wirken sich rassistisch
 e Erfahrungen auf mich und meinen Körper aus? Und wie kann ich für mich 
 sorgen? Diesen und vielen anderen Fragen widmen wir uns bei unserem Afro-D
 ance- &amp\; Empowerment-Workshop!\nRassismuserfahrungen und Mikroaggressi
 onen sind mental sowie körperlich belastend. Bei unserem Workshop lernen 
 wir durch Tanz und das Erleben von Musik unsere Körper kennen und erforsc
 hen wie sich negative Erfahrungen in uns festsetzen. Zudem entwickeln wir 
 Strategien um mit diesen umzugehen.\nWir erleben uns in Afrobeats und habe
 n Spaß am Erlernen einer leichten Choreografie. Zudem unterstützen wir e
 inander beim anschließenden Austausch über Rassismuserfahrungen und Entw
 ickeln von Selfcare-Strategien in einem Safer Space.\nDer Workshop richtet
  sich ausschließlich an BIPOC - FLINTAQ* (Frauen\, Lesben\, Trans\, Inter
 \, Nonbinary\, Asexual\, Queer*) Menschen\, die sich als Schwarz\, People 
 of Color oder migrantisch positionieren.
CATEGORIES:FLT*I*Q* Only
LOCATION:Fun-key Tanzatelier\, Brühlstraße 9a\, Hannover\, Niedersachsen\
 , 30169\, Deutschland
X-APPLE-STRUCTURED-LOCATION;VALUE=URI;X-ADDRESS=Brühlstraße 9a\, Hannover
 \, Niedersachsen\, 30169\, Deutschland;X-APPLE-RADIUS=100;X-TITLE=Fun-key 
 Tanzatelier:geo:0,0
END:VEVENT
END:VCALENDAR