BEGIN:VCALENDAR
VERSION:2.0
PRODID:-//wp-events-plugin.com//7.2.3.1//EN
TZID:Europe/Berlin
X-WR-TIMEZONE:Europe/Berlin
BEGIN:VEVENT
UID:14576@rauszeit-termine.org
DTSTART;TZID=Europe/Berlin:20250216T103000
DTEND;TZID=Europe/Berlin:20250216T103000
DTSTAMP:20250214T225706Z
URL:https://rauszeit-termine.org/events/bautag-in-der-korn-4/
SUMMARY:Bautag in der Korn
DESCRIPTION:Kommt zu unseren Bautagen und haltet die Korn Instand.\nEs gibt
  diverse Baustellen und alle können mitmachen. \nNeben Instandhaltung sta
 rten wir auch oft neue Bauprojekte. Von Streichen bis Holzbearbeitung\, dr
 innen und draußen\, es gibt immer viel zu tun und voneinander zu lernen.\
 nKommt alleine oder mit eurer Bau-Bande \nAm 16.02. / 26.04. / 17.05. jewe
 ils ab morgens (voraussichtlich 10:30 Uhr)\nSchreibt es euch gleich in den
  Kalender.\nAn die Uhrzeit erinnern wir euch nochmal.
ATTACH;FMTTYPE=image/jpeg:https://rauszeit-termine.org/wp-content/uploads/
 2025/02/bautag.jpg
CATEGORIES:Sonstiges
LOCATION:UJZ Korn\, Kornstraße 28-30\, Hannover\, Niedersachsen\, 30167\, 
 Hannover\, Deutschland
X-APPLE-STRUCTURED-LOCATION;VALUE=URI;X-ADDRESS=Kornstraße 28-30\, Hannove
 r\, Niedersachsen\, 30167\, Hannover\, Deutschland;X-APPLE-RADIUS=100;X-TI
 TLE=UJZ Korn:geo:0,0
END:VEVENT
BEGIN:VTIMEZONE
TZID:Europe/Berlin
X-LIC-LOCATION:Europe/Berlin
BEGIN:STANDARD
DTSTART:20241027T020000
TZOFFSETFROM:+0200
TZOFFSETTO:+0100
TZNAME:CET
END:STANDARD
END:VTIMEZONE
END:VCALENDAR