BEGIN:VCALENDAR
VERSION:2.0
PRODID:-//wp-events-plugin.com//7.2.3.1//EN
TZID:Europe/Berlin
X-WR-TIMEZONE:Europe/Berlin
BEGIN:VEVENT
UID:147208@rauszeit-termine.org
DTSTART;TZID=Europe/Berlin:20250408T180000
DTEND;TZID=Europe/Berlin:20250408T200000
DTSTAMP:20250406T082912Z
URL:https://rauszeit-termine.org/events/bad-to-worst-transition-transforma
 tionsdesign-zwischen-ponyhof-und-kollapsfantasien-gespraech-mit-thomas-koe
 hler/
SUMMARY:Bad-to-Worst Transition - Transformationsdesign zwischen Ponyhof- u
 nd Kollapsfantasien\, Gespräch mit Thomas Köhler
DESCRIPTION:Dienstag 8.4.25 18h: Bad-to-Worst Transition - Transformationsd
 esign zwischen Ponyhof- und Kollapsfantasien\, Gespräch mit Thomas Köhle
 r\n\nim Rahmen der Reihe Postwachstum und Transition findet im ruine hq ei
 n Gespräch zu möglichen gesellschaftlichen Transformationen angesichts k
 limatischer und anderer gesellschaftlicher Herausforderungen mit Thomas K
 öhler (Leibniz-Uni Hannover\, Transition Town) statt. Was sind zu erwarte
 nde Entwicklungen anhand der aktuellen (dürftigen) Anstrengungen zur Tran
 sformation? Was kann noch gemacht werden? Was sind mögliche Szenarien? We
 lche Rolle könnten dabei Kunsträume spielen?\n\nThomas Köhler ist Mithe
 rausgeber des Buchs Klima\, Kollaps\, Kommunikation - Perspektiven auf das
  Climate Endgame\, aus dem auch Perspektiven für den Abend kommen und das
  es auch vor Ort im hq zu erwerben geben wird.\n\nruine hq
CATEGORIES:Diskussion,Infoveranstaltung,Seminar
LOCATION:ruine hq\, Selmastr.4\, Hannover\, 30451\, Bahamas
X-APPLE-STRUCTURED-LOCATION;VALUE=URI;X-ADDRESS=Selmastr.4\, Hannover\, 304
 51\, Bahamas;X-APPLE-RADIUS=100;X-TITLE=ruine hq:geo:0,0
END:VEVENT
BEGIN:VTIMEZONE
TZID:Europe/Berlin
X-LIC-LOCATION:Europe/Berlin
BEGIN:DAYLIGHT
DTSTART:20250330T030000
TZOFFSETFROM:+0100
TZOFFSETTO:+0200
TZNAME:CEST
END:DAYLIGHT
END:VTIMEZONE
END:VCALENDAR