BEGIN:VCALENDAR
VERSION:2.0
PRODID:-//wp-events-plugin.com//7.2.3.1//EN
TZID:Europe/Berlin
X-WR-TIMEZONE:Europe/Berlin
BEGIN:VEVENT
UID:5581@rauszeit-termine.org
DTSTART:20190621T160000Z
DTEND:20190623T190000Z
DTSTAMP:20190528T114343Z
URL:https://rauszeit-termine.org/events/backjump-hip-hop-jam/
SUMMARY:Backjump - Hip Hop Jam
DESCRIPTION:Workshops\, Konzerte\, Beat Sets\, DJ Sets\, Dokus &amp\; vegan
 es Essen für Alle:\n\nFreitag:\n\nIm Rap-Workshop dreht sich alles um das
  gesprochene Wort. Mit professioneller Unterstützung des Dortmunder Rappe
 rs Schlakks sollen Texte geschrieben und gerappt werden. Alle sind willkom
 men - ob erfahren oder noch ganz neu.\n\n17:30-20:30 Uhr:\n\nMaximal 8 Tei
 lnehmer*innen. Anmeldung für alle Workshops über backjump@web.de\n\n&nbs
 p\;\nLet´s cypher!\nTanzworkshop Breaking (Breakdance) mit Frieda Frost\n
 \nIm Workshop "Let´s cypher" betrachten wir die kulturelle Entwicklungsge
 schichte von Breaking (auch als Breakdance bekannt) und lernen grundlegend
 e Tanzschritte und Moves von Toprock\, Go down\, Footwork und Freeze. Mit 
 viel Energie und Spaß werden wir unsere Schritte üben\, so dass wir sie 
 dann gemeinsam im „Cypher“ (Tanzkreis) umsetzen und uns tänzerisch au
 stauschen können.\nNicht vergessen: Bequeme Kleidung\, saubere Turnschuhe
  und gute Laune!\n\nFrieda "Bgirl Frost" Frost ist Tänzerin\, Tanzvermitt
 lerin und promoviert derzeit zur urbanen Tanzkultur Breaking an der Deutsc
 hen Sporthochschule Köln. Sie ist seit über 15 Jahren in der HipHop Szen
 e aktiv\, wird für nationale und internationale Breakdance-Events als Tei
 lnehmerin oder Jury eingeladen\, organisiert eigene Events und steht als T
 änzerin mit ihrem Kollektiv nutrospektif auf der Theaterbühne. Sie  unt
 errichtet in freien und formellen Kontexten wie Szenevents und -festivals\
 , Schule\, Jugendzentrum oder Universität\, leitet Tanzprojekte für Kind
 er und Jugendliche und gibt Weiterbildungen und Workshops zu Breaking\, mi
 t dem cypher als zentralen Lern- und Lehrkontext.\nWeitere Infos: www.frie
 dafrost.blogspot.com\n17:30-19:30 Uhr\nMin. 6 - max. 12 Teilnehmer*innen. 
 Anmeldung für alle Workshops über backjump@web.de\n\n\nAb 19 Uhr:\n\nKü
 fa &amp\; Kneipe (Küche für alle -&gt\; veganes Essen gegen Spende).\n\n
 &nbsp\;\n\nSamstag:\n\nBeatbau Workshop - For Beginners\n\nFrom Sample to 
 Beat - From Crate to Stage\n\nDjango zeigt und erklärt den Vorgang des An
 alogen Beat-Produzierens. Ausgestattet mit Plattenspielern und MPC wird de
 r Aufbau eines Beats erklärt. Ab 14 Jahren.\n\nhttps://www.facebook.com/p
 oppindjango/\n\n12-14 Uhr\n\nMaximal 12 Teilnehmer*innen\n\n&nbsp\;\n\n&nb
 sp\;\n\nab 14 Uhr:\n\nDJ Sets und Beat Sets im Innenhof mit\n\nPolar\n\nDJ
 ango\n\nGerald\n\nCarool (DJ)\n\n&nbsp\;\n\nab 20 Uhr Konzerte:\n\nWarmUp 
 mit Jian\n\nMusa &amp\; Ghanaian Stallion (BSMG) https://www.youtube.com/w
 atch?v=pmPIShLMuhY\n\nLisaholic https://www.youtube.com/watch?v=UbLKNzNlIv
 o\n\nDie P &amp\; DJ Shifroc https://www.youtube.com/watch?v=uvk8vGB-Y1o&a
 mp\;list=OLAK5uy_lsTDMY2yLwdW2QY-tANvXD7CGkAK40Z0Y\n\nSam und Max https://
 www.youtube.com/watch?v=2ZinXiVS7ic\n\nMimi https://www.youtube.com/watch?
 v=cExE3lyX8Rg&amp\;list=PLHBrNpyG9Onavj33_bzW512hMQD_DQMl-&amp\;index=1\n\
 nAftershowparty im Anschluss mit DeeJay u.a.\n\n&nbsp\;\n\nSonntag:\n\nab 
 16 Uhr Offene Scratch-Session\n\nab 18 Uhr Dokus:\n\nRubble Kings (67 min.
 \, Englisch\, Regisseur David Kennedy)\n\nThrough archival footage this do
 cumentary tells the story of the real Warriors that walked the streets of 
 New York. From 1968 to 1975 gangs ruled New York City. Beyond the idealist
 ic hopes of the civil rights movement lay a unfocused rage. Neither law en
 forcement nor social agency could end the escalating bloodshed. Peace came
  only through the most unlikely and courageous of events that would change
  the world for generations to come by giving birth to hip-hop culture. Rub
 ble Kings chronicles life during this era of gang rule tells the story of 
 how a few extraordinary forgotten people did the impossible and how their 
 actions impacted New York City and the world over.\n\nHip Hop The World Is
  Yours (82 min.\, Deutsch\, Regisseur Joshua Atesh Litle)\n\nViele glauben
 \, bereits alles über Hip-Hop zu wissen. Doch der Dokumentarfilm "Hip-Hop
 \, The World is Yours" sprengt alle Klischees\, die mit diesem Musikgenre 
 verbunden sind\, und öffnet den Blick auf die einende Kraft einer globale
 n Bewegung. Aus den USA nach Europa und dann in die ganze Welt importiert\
 , entstand der Hip-Hop in den 60er und 70er Jahren in den großstädtische
 n Brennpunkten. Geprägt von sozialen Unruhen und Rassismus\, Gewaltbereit
 schaft und Intoleranz sowie der erstarkenden Identität der Minderheiten. 
 Auf packende Art vermittelt der Film eine optimistische Botschaft von Hoff
 nung und Versöhnung. Er demonstriert\, wie die Musikgattung Hip-Hop ohne 
 Tabus ganz unterschiedliche Menschen begeistert und im Protest zusammenfü
 hrt: Berliner und Hamburger Rapper\, Pariser Vorstadtkids\, Juden aus Isra
 el\, Palästinensische Jugendliche und afrikanische Frauenrechtlerinnen. "
 Hip-Hop\, The World is Yours" ist die mitreißende Chronik einer explosive
 n Revolte an der Schnittstelle zwischen Politik und Kunst.\n\n&nbsp\;\n\nD
 ie Veranstaltungen finden in Kooperation mit der Rosa-Luxemburg-Stiftung N
 iedersachsen\, dem Beirat für Jugendkulturen\, dem Autonomen Feministisch
 en Kollektiv und dem AStA der Leibniz Universität Hannover statt.\n\nWir 
 wünschen uns bei der Veranstaltung einen solidarischen Umgang miteinander
  statt sexistischem\, rassistischem\, homo-/transfeindlichem oder anderem 
 diskriminierenden Verhalten. Falls es trotzdem dazu kommt\, sind wir anspr
 echbar und behalten uns vor\, Leute raus zu schmeißen.
CATEGORIES:Festival,Film,Kneipe,Konzert,KüfA - Küche für
 Alle,Party,Workshop
LOCATION:UJZ Korn\, Kornstraße 28-30\, Hannover\, Niedersachsen\, 30167\, 
 Hannover\, Deutschland
X-APPLE-STRUCTURED-LOCATION;VALUE=URI;X-ADDRESS=Kornstraße 28-30\, Hannove
 r\, Niedersachsen\, 30167\, Hannover\, Deutschland;X-APPLE-RADIUS=100;X-TI
 TLE=UJZ Korn:geo:0,0
END:VEVENT
END:VCALENDAR