BEGIN:VCALENDAR
VERSION:2.0
PRODID:-//wp-events-plugin.com//7.2.3.1//EN
TZID:Europe/Berlin
X-WR-TIMEZONE:Europe/Berlin
BEGIN:VEVENT
UID:6710@rauszeit-termine.org
DTSTART:20200408T153000Z
DTEND:20200408T190000Z
DTSTAMP:20200329T142739Z
URL:https://rauszeit-termine.org/events/austauschtreffen-feministischer-ra
 t-hannover/
SUMMARY:Online Austauschtreffen Feministischer Rat Hannover
DESCRIPTION:\n\nONLINE VERANSTALTUNG\n17.30 Uhr: Einführung in digitale To
 ols für unsere weitere Arbeit\n18.30 Uhr: Beginn des regulären Treffens\
 nZugangslink: https://meet.jit.si/FeministischerRatHannnoverDas Treffen fi
 ndet aufgrund der aktuellen Situation in einer Online-Konferenz mithilfe d
 es Tools Jitsi statt. Jitsi ist nicht kompliziert und man benötigt keinen
  Account\, lediglich einen Internetanschluss und den Zugangslink (siehe ob
 en).\nAb 17.30 Uhr gibt eine eine Einführung in die Nutzung digitaler Too
 ls für unsere weitere politische Arbeit.\nUm 18.30 Uhr startet dann das r
 eguläre Treffen.\n\n+++ Die Austauschtreffen finden an wechselnden Orten 
 statt +++ Für Infos schau auf Facebook (https://www.facebook.com/Feminist
 ischerRatHannover/) oder schreib uns eine Email (feministisch_streiken@ris
 eup.net) +++\nAus dem Streikbündnis "Feministisch streiken/streiten" \, w
 elches die Demo/ den Streik am 08. März 2019 organisiert hat\, ist nun de
 r Feministische Rat Hannover entstanden. Gemeinsam haben wir die Demo zum 
 08. März 2020 organisiert.\nUnsere Treffen sind an jedem 8. eines Monats 
 um 18:30 Uhr an wechselnden Orten mit einer festgelegten Struktur:\n\n 	Ei
 nstiegsrunde\n 	Was ist aus unserer feministischen Perspektive gerade wich
 tig? Was sind Themen\, die uns gerade beschäftigen?\n 	Sammlung von Theme
 n/Anfragen\n 	Besprechung im gemeinsamen Rahmen oder in Kleingruppen\n 	Ve
 rabredungen und gemeinsamer Abschluss\n\nDer Feministische Rat will Lernra
 um sein und ein Rahmen\, der Kraft gibt und verbindet\, wo Energien frei g
 esetzt werden und sowohl eine Basis als auch ein übergeordnetes „Netzwe
 rk“ entstehen kann.\nEin Schwerpunkt der Austauschtreffen ist das Motto 
 „Auf zum nächsten feministischen Streik...“\, denn der Feministische 
 Rat Hannover ist Teil einer weltweiten Bewegung\, die sexistische Diskrimi
 nierung satt hat und darauf mit Protest\, Bildung und Organisierung reagie
 rt!\nWillkommen sind Frauen*\, Inter*\, Trans* und nicht binäre Personen 
 (also keine Cis-Männer. Cis bedeutet\, dass sich eine Person mit dem ange
 borenen/zugewiesenen Geschlecht identifiziert).\nKomm vorbei wir brauchen 
 deine Stimme!\nDu hast Fragen\, Anmerkungen oder Kritik? Du brauchst einen
  barrierefreien Zugang zu unserem nächsten Treffen?\nSchreib uns gerne ei
 ne Nachricht über Facebook oder an feministisch_streiken@riseup.net\nMehr
  Infos: https://www.facebook.com/FeministischerRatHannover/\n\n
CATEGORIES:FLT*I*Q* Only,Treffen
END:VEVENT
END:VCALENDAR