BEGIN:VCALENDAR
VERSION:2.0
PRODID:-//wp-events-plugin.com//7.2.3.1//EN
TZID:Europe/Berlin
X-WR-TIMEZONE:Europe/Berlin
BEGIN:VEVENT
UID:6723@rauszeit-termine.org
DTSTART:20200315T100000Z
DTEND:20200315T150000Z
DTSTAMP:20200314T151233Z
URL:https://rauszeit-termine.org/events/austausch-und-vernetzungstreffen-z
 u-patriarchat-und-sexualisierter-gewalt-in-unserer-szene-insbesondere-fuer
 -cis-maenner-aber-offen-fuer-alle-gender/
SUMMARY:ABSAGE! - Austausch- und Vernetzungstreffen zu Patriarchat und sexu
 alisierter Gewalt in unserer Szene – insbesondere für Cis-Männer\, abe
 r offen für alle Gender
DESCRIPTION:\n\n— ABSAGE! —\n\nDie beiden Vernetzungstreffen zum Antise
 xistischen Support in Hannover (sowohl das FLINTA*-only als auch das all g
 ender/insbesondere für cis-Männer Treffen) fallen aus. Infos zu einem ne
 uen Termin folgen. Sagt das bitte auch an Bekannte weiter\, von denen ihr 
 wisst\, dass sie zu den Treffen gehen wollten.\n\n— ABSAGE! —\n\n\nLie
 be Genossen\, liebe Genoss*innen\,\n\nwir leben in einer patriarchalen Ges
 ellschaft und sexualisierte Gewalt ist ein soziales Problem. Auch als link
 sradikale Szene sind wir nicht frei von dieser Realität. Patriarchales Ve
 rhalten und sexualisierte Übergriffe finden in unseren Strukturen\, unser
 en Räumen und unserem Umfeld statt. Sie sind keine Einzelfälle oder Ausr
 utscher\, sondern haben System. Dabei geht die Gewalt zu einem ganz überw
 iegenden Teil von Cis-Männern¹ aus und führt immer wieder dazu\, dass g
 emeinsame politische Arbeit und Organisierung aller Gender² scheitert.\nI
 m November und Dezember hat der feministische Zusammenhang Always Ultras u
 ns diese Realität durch eine Veranstaltungsreihe vor Augen geführt.\nEs 
 ist offensichtlich und wurde durch die Veranstaltungsreihe für viele noch
 mal deutlicher\, dass die Verantwortung\, gegen sexualisierte Gewalt aktiv
  zu werden\, bei Cis-Männern liegen sollte\, von ihnen aber noch viel zu 
 wenig wahrgenommen wird. Während der Veranstaltungsreihe wurden Wünsche 
 und klare Forderungen von FLINTA*³ gegenüber Cis-Männern in unserer Sze
 ne formuliert. Wir wollen diese Forderungen aufgreifen und auch unseren ei
 genen Wünschen nach Veränderung der bestehenden Verhältnissen Ausdruck 
 verleihen.\n\nWährend die Always Ultras die feministische Vernetzung der 
 Szene voranbringen und ganz konkrete Schritte zu einer antisexistischen Pr
 axis von FLINTA* gehen\, bereiten gerade einige Cis-Männer ein offenes un
 d breites Austausch- und Vernetzungstreffen vor. Wir wollen uns insbesonde
 re mit anderen Cis-Männern darüber austauschen\, wie wir uns mit unserem
  eigenen patriarchalen Verhalten und sexualisierter Gewalt auseinandersetz
 en\, was uns daran hindert und was wir brauchen\, wie wir mit den Wünsche
 n und konkreten Forderungen unserer Genoss*innen umgehen wollen und welche
  konkreten Schritte wir darin gemeinsam gehen wollen. Was wollen wir gemei
 nsam tun\, damit die sexistischen Verhältnisse nicht bleiben\, wie sie si
 nd?\nIn der Vorbereitung denken wir bereits zu den Themen Transformative A
 rbeit mit gewaltausübenden Personen\, Antipatriarchale Auseinandersetzung
 /Kritische Männlichkeit sowie Awareness als Konzept für Räume und Haltu
 ng für uns alle.\nDa wir sowohl mit anderen zusammenkommen wollen\, die s
 ich bereits mit diesen und anderen Themen beschäftigen\, als auch mit Int
 eressierten\, die erst überlegen künftig mehr dazu zu machen\, wird das 
 Treffen davon leben\, dass ihr eure jeweiligen Interessen und konkreten Ar
 beiten mitbringt\, miteinander teilt und bereit seid\, konkrete Schritte m
 iteinander zu vereinbaren. Bringt gerne Infomaterialien und Ansichtsexempl
 are von Texten für einen Büchertisch während des Treffens mit.\n\nDas T
 reffen findet statt am 15.03.2020 (Sonntag) von 12.00 bis 17.00 Uhr im UJZ
  Kornstraße.\n\nDiese Einladung richtet sich vor allem an Cis-Männer\, d
 a wir bisher viel zu wenig über diese Themen und unsere Rollen darin spre
 chen und untereinander im Austausch sind. Wir wollen aber keine Männer*-B
 ünde fördern und sind uns darüber klar\, dass unser männlich-sozialisi
 erter Blick (auch auf uns selbst) viele patriarchale Leerstellen hat. Die 
 Always Ultras begleiten unsere Arbeit kritisch und wir versuchen ihnen geg
 enüber so transparent wie möglich zu sein.\nDas Treffen und unsere Verne
 tzung sind offen für alle Gender und wir möchten FLINTA*\, die sich für
  die oben genannten Themen interessieren\, nochmal ausdrücklich eingelade
 n.\nAuch wenn ihr nicht selbst an dem Treffen teilnehmen wollt\, könnt ih
 r uns ansprechen\, um zu erfahren\, was wir uns dabei denken und da eigent
 lich machen. Wenn ihr uns Punkte mitgeben wollt\, die euch wichtig sind\, 
 oder erfahren wollt\, wie das Treffen war\, sprecht/schreibt uns an. Wir w
 ollen transparent sein\, ganz besonders gegenüber feministischen Struktur
 en.\n\nWichtig ist uns\, zu betonen\, dass wir mit dem Treffen keinen Frei
 raum schaffen können. Die meisten von uns haben selbst schon Grenzverletz
 ungen begangen. Sollte es gegen einzelne Personen Vorbehalte geben oder de
 ren explizite Ausladung gefordert werden\, sprecht uns bitte darauf an\, d
 amit wir diesbezüglich reagieren können.\nWenn du dich übergriffig verh
 alten hast und das noch nicht bearbeitet wurde\, verzichte bitte auf die T
 eilnahme\, weil wir die Täterschaft einzelner an diesem Tag nicht bearbei
 ten können. Du solltest uns aber ansprechen\, damit über Perspektiven f
 ür eine Auseinandersetzung nachgedacht werden kann.\n\nIhr erreicht uns p
 er Email unter: antipat-vernetzung-hannover[at]lists.immerda.ch\n\nSolidar
 ische Grüße\n\n¹ Cis-Männer sind Menschen\, die aufgrund ihrer Körper
  nach der Geburt als Männer bestimmt wurden\, als solche sozialisiert wur
 den und gelesen werden und sich selbst auch als solche verstehen.\n² Gend
 er meint das sozial konstruierte Geschlecht\, das nicht mit körperlichen 
 Merkmalen oder sexuellem Begehren gleichzusetzen ist.\n³ FLINTA* steht f
 ür „Frauen\, Lesben\, Intergeschlechtliche Personen\, Nicht-binäre Ges
 chlechter\, Trans-Personen und Personen ohne Genderidentität (Agender) so
 wie alle\, die sich zu dieser Bezeichnung dazugehörig fühlen (*)“.
CATEGORIES:Diskussion
LOCATION:UJZ Korn\, Kornstraße 28-30\, Hannover\, Niedersachsen\, 30167\, 
 Hannover\, Deutschland
X-APPLE-STRUCTURED-LOCATION;VALUE=URI;X-ADDRESS=Kornstraße 28-30\, Hannove
 r\, Niedersachsen\, 30167\, Hannover\, Deutschland;X-APPLE-RADIUS=100;X-TI
 TLE=UJZ Korn:geo:0,0
END:VEVENT
END:VCALENDAR