BEGIN:VCALENDAR
VERSION:2.0
PRODID:-//wp-events-plugin.com//7.2.3.1//EN
TZID:Europe/Berlin
X-WR-TIMEZONE:Europe/Berlin
BEGIN:VEVENT
UID:14730@rauszeit-termine.org
DTSTART;TZID=Europe/Berlin:20250326T170000
DTEND;TZID=Europe/Berlin:20250326T170000
DTSTAMP:20250313T202804Z
URL:https://rauszeit-termine.org/events/asylrecht-hilfe-zur-selbsthilfe-2/
SUMMARY:Asylrecht - Hilfe zur Selbsthilfe
DESCRIPTION:Bilgilendirme toplantısı\n\nTarih: 26.03.2025\n⏰Saat: 17:00
 \nYer: UJZ Korn\, Kornstr. 28-30\, 30171 Hannover\n\nHepinizi „Mülteci 
 haklar” konulu bilgilendirme etkinliğimize davet ediyoruz. Flüchtlings
 rat Niedersachsen e.V’den konuşmacı Torben\nLinde ile birlikte mültec
 i haklarını tartışacağız.\n\n️Etkinlik Türkiye ve Kürdistanli m
 ülteciler içindir ve Türkçe’ye çevrilecektir.\n\nInformationsverans
 taltung: Asylrecht -\nHilfe zur Selbsthilfe\n\nDatum: 26.03.2025\n⏰Uhrze
 it: 16:00\nOrt: UJZ Korn\, Kornstr. 28-30\, 30171 Hannover\n\nWir laden ei
 n zu unserer Infoveranstaltung zum Thema „Asylrecht - Hilfe zur Selbsthi
 lfe”. Der Referent Torben Linde vom Flüchtlingsrat Niedersachsen e.V. w
 ird euch\, nachdem wir letztes Jahr eine sehr erfolgreiche Veranstaltung h
 atten\, auch in diesem Jahr wieder praxisnahe Einblicke geben.\n\n️Die V
 eranstaltung ist für Geflüchtete aus der Türkei und Kurdistan und wird 
 ins Türkische übersetzt\, um sicherzustellen\, dass jeder alles versteht
 . Stellt all eure Fragen und tauscht Erfahrungen aus.
ATTACH;FMTTYPE=image/jpeg:https://rauszeit-termine.org/wp-content/uploads/
 2025/03/asylrecht.jpg
CATEGORIES:Infoveranstaltung
LOCATION:UJZ Korn\, Kornstraße 28-30\, Hannover\, Niedersachsen\, 30167\, 
 Hannover\, Deutschland
X-APPLE-STRUCTURED-LOCATION;VALUE=URI;X-ADDRESS=Kornstraße 28-30\, Hannove
 r\, Niedersachsen\, 30167\, Hannover\, Deutschland;X-APPLE-RADIUS=100;X-TI
 TLE=UJZ Korn:geo:0,0
END:VEVENT
BEGIN:VTIMEZONE
TZID:Europe/Berlin
X-LIC-LOCATION:Europe/Berlin
BEGIN:STANDARD
DTSTART:20241027T020000
TZOFFSETFROM:+0200
TZOFFSETTO:+0100
TZNAME:CET
END:STANDARD
END:VTIMEZONE
END:VCALENDAR