BEGIN:VCALENDAR
VERSION:2.0
PRODID:-//wp-events-plugin.com//7.2.3.1//EN
TZID:Europe/Berlin
X-WR-TIMEZONE:Europe/Berlin
BEGIN:VEVENT
UID:14011@rauszeit-termine.org
DTSTART;TZID=Europe/Berlin:20250204T120000
DTEND;TZID=Europe/Berlin:20250204T160000
DTSTAMP:20250104T034040Z
URL:https://rauszeit-termine.org/events/antifa-elchcafe-2-2025-02-04/
SUMMARY:Antifa-Elchcafé
DESCRIPTION:Im Antifa-Elch treffen sich Menschen von Studis gegen Rechts\, 
 um uns außerhalb des Plenums auszutauschen\, in unseren Arbeitsgruppen zu
  organisieren\, uns kennenzulernen. Außerdem finden dort häufig Aktionen
 \, wie Bannermalen oder Ansprachetraining statt. Manchmal trinken wir auch
  nur Kaffee und quatschen.
ATTACH;FMTTYPE=image/jpeg:https://rauszeit-termine.org/wp-content/uploads/
 2025/01/Elch_Rauszeit.png
CATEGORIES:Café,Treffen
LOCATION:Elchkeller\, Schneiderberg 50\, Hannover\, Deutschland
X-APPLE-STRUCTURED-LOCATION;VALUE=URI;X-ADDRESS=Schneiderberg 50\, Hannover
 \, Deutschland;X-APPLE-RADIUS=100;X-TITLE=Elchkeller:geo:0,0
END:VEVENT
BEGIN:VTIMEZONE
TZID:Europe/Berlin
X-LIC-LOCATION:Europe/Berlin
BEGIN:STANDARD
DTSTART:20241027T020000
TZOFFSETFROM:+0200
TZOFFSETTO:+0100
TZNAME:CET
END:STANDARD
END:VTIMEZONE
END:VCALENDAR