BEGIN:VCALENDAR
VERSION:2.0
PRODID:-//wp-events-plugin.com//7.2.3.1//EN
TZID:Europe/Berlin
X-WR-TIMEZONE:Europe/Berlin
BEGIN:VEVENT
UID:156640@rauszeit-termine.org
DTSTART;TZID=Europe/Berlin:20280905T100000
DTEND;TZID=Europe/Berlin:20280905T160000
DTSTAMP:20260425T142601Z
URL:https://rauszeit-termine.org/events/antifa-elchcafe-%f0%9f%ab%8e%f0%9f
 %8f%b3%ef%b8%8f%f0%9f%8c%88-2028-09-05/
SUMMARY:ANTIFA Elchcafé &#x1face\;&#x1f3f3\;&#xfe0f\;&#x200d\;&#x1f308\;
DESCRIPTION:Du suchst einen Ort\, um dich mit anderen politisch interessier
 ten / politisch aktiven Menschen auszutauschen? Dann ist das ANTIFA Elchca
 fé der richtige Ort! &#x1f4ab\;\n\nJeden Dienstag treffen wir uns im Elch
 keller\, um den Raum zum Basteln\, Austauschen\, Lernen o.Ä. zu nutzen. A
 lles natürlich mit Käffchen und (manchmal) Kuchen. Falls du nicht allein
 e kommen möchtest\, schreib uns gerne eine Nachricht\, das kriegen wir hi
 n! &#x1fac2\;\n\nKontakt: antifaelchkeller@gmail.com
ATTACH;FMTTYPE=image/jpeg:https://rauszeit-termine.org/wp-content/uploads/
 2026/04/Cafe_Sharepic.jpg
CATEGORIES:Austausch,Café,Sonstiges
LOCATION:Elchkeller\, Schneiderberg 50\, Hannover\, Deutschland
X-APPLE-STRUCTURED-LOCATION;VALUE=URI;X-ADDRESS=Schneiderberg 50\, Hannover
 \, Deutschland;X-APPLE-RADIUS=100;X-TITLE=Elchkeller:geo:0,0
END:VEVENT
BEGIN:VTIMEZONE
TZID:Europe/Berlin
X-LIC-LOCATION:Europe/Berlin
BEGIN:DAYLIGHT
DTSTART:20280326T030000
TZOFFSETFROM:+0100
TZOFFSETTO:+0200
TZNAME:CEST
END:DAYLIGHT
END:VTIMEZONE
END:VCALENDAR