BEGIN:VCALENDAR
VERSION:2.0
PRODID:-//wp-events-plugin.com//7.2.3.1//EN
TZID:Europe/Berlin
X-WR-TIMEZONE:Europe/Berlin
BEGIN:VEVENT
UID:150362@rauszeit-termine.org
DTSTART;TZID=Europe/Berlin:20251018T110000
DTEND;TZID=Europe/Berlin:20251018T170000
DTSTAMP:20250917T191700Z
URL:https://rauszeit-termine.org/events/angeleitete-kurse-zu-den-basics-vo
 n-box-und-kicktechniken/
SUMMARY:Angeleitete Kurse zu den Basics von Box- und Kicktechniken
DESCRIPTION:Im Rahmen unserer Veranstaltungsreihe haben wir auch etwas für
  Newcomer am Start! \n\nDie Basic-Kurse\, richten sich an alle\, die Kampf
 sport (Kickboxen\, K1) kennenlernen oder ihre Grundlagen vertiefen möchte
 n – unabhängig von der jeweiligen Erfahrung. \nIn sicherer Atmosphäre 
 schaffen wir Raum\, in dem du Techniken lernen\, vertiefen und dich auspro
 bieren kannst – gemeinsam mit anderen und mit Freude am Kampfsport. Ob d
 u neu bist oder bereits erste Techniken kennst: Du bist herzlich willkomme
 n! Ihr benötigt nichts außer bequeme Sportklamotten und Getränke. Falls
  vorhanden\, bringt bitte eure eigenen Boxhandschuhe und Bandagen mit. \n\
 n18.10.2025\nOrt: Glocksee Hannover\nTreffpunkt: Innenhof/Halfpipe\nBeginn
 : \n11:00 Uhr Basic Kurs Flinta* only\n14:00 Uhr Basic Kurs all Gender\n17
 :00 Uhr Basic Kurs all Gender \n(jeweils 30 Minuten vorher da sein)\n\nAnm
 eldung:\nhttps://forms.office.com/e/UXpSRGUQPV?origin=lprLink\n\n❗️Fir
 st come\, first serve.\n\nSeid dabei - Wir freuen uns auf euch!\n\nQuelle:
  Solidarische Kampfsportgemeinschaft Hannover e.V.
ATTACH;FMTTYPE=image/jpeg:https://rauszeit-termine.org/wp-content/uploads/
 2025/09/solidarischer-kampfsport.jpg
CATEGORIES:Sport
LOCATION:Glocksee Innenhof\, Glockseestraße 35\, Hannover\, Deutschland
X-APPLE-STRUCTURED-LOCATION;VALUE=URI;X-ADDRESS=Glockseestraße 35\, Hannov
 er\, Deutschland;X-APPLE-RADIUS=100;X-TITLE=Glocksee Innenhof:geo:0,0
END:VEVENT
BEGIN:VTIMEZONE
TZID:Europe/Berlin
X-LIC-LOCATION:Europe/Berlin
BEGIN:DAYLIGHT
DTSTART:20250330T030000
TZOFFSETFROM:+0100
TZOFFSETTO:+0200
TZNAME:CEST
END:DAYLIGHT
END:VTIMEZONE
END:VCALENDAR