BEGIN:VCALENDAR
VERSION:2.0
PRODID:-//wp-events-plugin.com//7.2.3.1//EN
TZID:Europe/Berlin
X-WR-TIMEZONE:Europe/Berlin
BEGIN:VEVENT
UID:14720@rauszeit-termine.org
DTSTART;TZID=Europe/Berlin:20250315T190000
DTEND;TZID=Europe/Berlin:20250315T234500
DTSTAMP:20250312T163456Z
URL:https://rauszeit-termine.org/events/andharue-blood-specter-covenaut-te
 am-anarchy-spancer/
SUMMARY:Andharü | Blood Specter | Covenaut | Team Anarchy | Spancer
DESCRIPTION:A Crustpunx in Love &amp\; Pepples Show\n&nbsp\;\n15.03.25 | Do
 ors 19:00 | Noise 19:30 | Stumpf\n&nbsp\;\nAndharü\nBlackened Blues | Swe
 den\nBlood Specter\nFuneral Rock | Bielefeld\nCovenaut\nStoner Doom | Biel
 efeld\nSpancer\ndoom | Braunschweig\nTeam Anarchy\ncrust Punk | Malmö
CATEGORIES:Sonstiges
LOCATION:Stumpf\, Welfengarten 2c\, Hannover\, Niedersachsen\, 30167\, Deut
 schland
X-APPLE-STRUCTURED-LOCATION;VALUE=URI;X-ADDRESS=Welfengarten 2c\, Hannover\
 , Niedersachsen\, 30167\, Deutschland;X-APPLE-RADIUS=100;X-TITLE=Stumpf:ge
 o:0,0
END:VEVENT
BEGIN:VTIMEZONE
TZID:Europe/Berlin
X-LIC-LOCATION:Europe/Berlin
BEGIN:STANDARD
DTSTART:20241027T020000
TZOFFSETFROM:+0200
TZOFFSETTO:+0100
TZNAME:CET
END:STANDARD
END:VTIMEZONE
END:VCALENDAR