BEGIN:VCALENDAR
VERSION:2.0
PRODID:-//wp-events-plugin.com//7.2.3.1//EN
TZID:Europe/Berlin
X-WR-TIMEZONE:Europe/Berlin
BEGIN:VEVENT
UID:14734@rauszeit-termine.org
DTSTART;TZID=Europe/Berlin:20250322T200000
DTEND;TZID=Europe/Berlin:20250322T234500
DTSTAMP:20250315T121618Z
URL:https://rauszeit-termine.org/events/affenmesserkampf-surreal-fatal-syf
 f/
SUMMARY:Affenmesserkampf + Surreal Fatal + Syff
DESCRIPTION:Affenmesserkampf\nhttps://affenmesserkampf.bandcamp.com/\n\nSur
 real Fatal\nhttps://surrealfatal.bandcamp.com/\n\nSyff\nhttps://syffsuxx.b
 andcamp.com/
CATEGORIES:Konzert
LOCATION:Stumpf\, Welfengarten 2c\, Hannover\, Niedersachsen\, 30167\, Deut
 schland
X-APPLE-STRUCTURED-LOCATION;VALUE=URI;X-ADDRESS=Welfengarten 2c\, Hannover\
 , Niedersachsen\, 30167\, Deutschland;X-APPLE-RADIUS=100;X-TITLE=Stumpf:ge
 o:0,0
END:VEVENT
BEGIN:VTIMEZONE
TZID:Europe/Berlin
X-LIC-LOCATION:Europe/Berlin
BEGIN:STANDARD
DTSTART:20241027T020000
TZOFFSETFROM:+0200
TZOFFSETTO:+0100
TZNAME:CET
END:STANDARD
END:VTIMEZONE
END:VCALENDAR