BEGIN:VCALENDAR
VERSION:2.0
PRODID:-//wp-events-plugin.com//7.2.3.1//EN
TZID:Europe/Berlin
X-WR-TIMEZONE:Europe/Berlin
BEGIN:VEVENT
UID:147256@rauszeit-termine.org
DTSTART;TZID=Europe/Berlin;VALUE=DATE:20250426
DTEND;TZID=Europe/Berlin;VALUE=DATE:20250427
DTSTAMP:20250423T180426Z
URL:https://rauszeit-termine.org/events/500-jahre-bauernkriege-aus-anarcho
 syndikalistischer-sicht/
SUMMARY:500 Jahre Bauernkriege aus anarchosyndikalistischer Sicht
DESCRIPTION:500 Jahre 1525 – Die Bauernkriege und Anarcho-Syndikalismus\n
 \n\nDie Erhebungen der Bauern 1525 in Deutschland stehen in einer sozialre
 volutionären Tradition zum Anarcho-Syndikalismus. Der Historiker Helge D
 öhring vom Institut für Syndikalismusforschung\, syfo.info\, beleuchtet 
 die inhaltlichen Bezüge sowie die Gedenkaktivitäten der historischen Gew
 erkschaft Freie Arbeiter-Union Deutschlands (FAUD). Diese widmete Thomas M
 üntzer 1925 sogar ihren Reichskongress. Rudolf Rocker politisierte sich e
 ntscheidend über die Lektüre zu den Bauernkriegen und nannte Müntzer ei
 ne Monumentalfigur der deutschen Geschichte. Zu 500 Jahre Bauernkriege sol
 l das Gedenken auch von anarcho-syndikalistischer Seite belebt werden – 
 unter der Fragestellung: Was davon ist heute noch aktuell?\n\n\n \nVortra
 g 18:00-20:00 Uhr im FAU Lokal Hannover
CATEGORIES:Sonstiges
LOCATION:Gewerkschaftslokal der FAU Hannover\, Nieschlagstraße 1b\, Hannov
 er\, Niedersachsen\, 30449\, Deutschland
X-APPLE-STRUCTURED-LOCATION;VALUE=URI;X-ADDRESS=Nieschlagstraße 1b\, Hanno
 ver\, Niedersachsen\, 30449\, Deutschland;X-APPLE-RADIUS=100;X-TITLE=Gewer
 kschaftslokal der FAU Hannover:geo:0,0
END:VEVENT
BEGIN:VTIMEZONE
TZID:Europe/Berlin
X-LIC-LOCATION:Europe/Berlin
BEGIN:DAYLIGHT
DTSTART:20250330T030000
TZOFFSETFROM:+0100
TZOFFSETTO:+0200
TZNAME:CEST
END:DAYLIGHT
END:VTIMEZONE
END:VCALENDAR