BEGIN:VCALENDAR
VERSION:2.0
PRODID:-//wp-events-plugin.com//7.2.3.1//EN
TZID:Europe/Berlin
X-WR-TIMEZONE:Europe/Berlin
BEGIN:VEVENT
UID:15274@rauszeit-termine.org
DTSTART;TZID=Europe/Berlin:20250323T140000
DTEND;TZID=Europe/Berlin:20250323T140000
DTSTAMP:20250321T114353Z
URL:https://rauszeit-termine.org/events/21459/
SUMMARY:Basteltag
DESCRIPTION:Aus der Einladung des Anarchistischen Kollektivs Hannover:\n\nW
 ir laden wieder zum Basteltag ein! \n\n️ Sonntag\, 23.03.25\n⏰ 14:00 U
 hr\n Elchkeller Hannover\n\nKommt vorbei und bastelt mit uns an Stencils\,
  Patches oder euren eigenen Bastelprojekten. Näht eure Kleidung\, malt Bi
 lder oder tobt euch sonst irgendwie kreativ aus!\nWir haben ein bisschen w
 as an Material\, was wir zur Verfügung stellen können\, aber bring auch 
 gerne noch was mit\, wenn du möchtest \n\nWir freuen uns über alle die v
 orbeikommen!
ATTACH;FMTTYPE=image/jpeg:https://rauszeit-termine.org/wp-content/uploads/
 2025/03/basteltag.jpg
CATEGORIES:Sonstiges
LOCATION:Elchkeller\, Schneiderberg 50\, Hannover\, Deutschland
X-APPLE-STRUCTURED-LOCATION;VALUE=URI;X-ADDRESS=Schneiderberg 50\, Hannover
 \, Deutschland;X-APPLE-RADIUS=100;X-TITLE=Elchkeller:geo:0,0
END:VEVENT
BEGIN:VTIMEZONE
TZID:Europe/Berlin
X-LIC-LOCATION:Europe/Berlin
BEGIN:STANDARD
DTSTART:20241027T020000
TZOFFSETFROM:+0200
TZOFFSETTO:+0100
TZNAME:CET
END:STANDARD
END:VTIMEZONE
END:VCALENDAR