BEGIN:VCALENDAR
VERSION:2.0
PRODID:-//wp-events-plugin.com//7.2.3.1//EN
TZID:Europe/Berlin
X-WR-TIMEZONE:Europe/Berlin
BEGIN:VEVENT
UID:6869@rauszeit-termine.org
DTSTART:20200906T080000Z
DTEND:20200906T180000Z
DTSTAMP:20200811T113021Z
URL:https://rauszeit-termine.org/events/2-vernetzungstreffen-zum-antisexis
 tischen-support-hannover-ash/
SUMMARY:2 Vernetzungstreffen zum Antisexistischen Support Hannover (ASH)
DESCRIPTION:Der Antisexistische Support Hannover im Aufbau:\nVernetzungstre
 ffen für FLINTA* (10.00 - 14.00 Uhr)\nund\nVernetzungstreffen insbesonder
 e für Cis-Männer\, aber offen für alle Gender (16.00 - 20.00 Uhr)
CATEGORIES:Diskussion,Treffen
LOCATION:UJZ Korn\, Kornstraße 28-30\, Hannover\, Niedersachsen\, 30167\, 
 Hannover\, Deutschland
X-APPLE-STRUCTURED-LOCATION;VALUE=URI;X-ADDRESS=Kornstraße 28-30\, Hannove
 r\, Niedersachsen\, 30167\, Hannover\, Deutschland;X-APPLE-RADIUS=100;X-TI
 TLE=UJZ Korn:geo:0,0
END:VEVENT
END:VCALENDAR