BEGIN:VCALENDAR
VERSION:2.0
PRODID:-//wp-events-plugin.com//7.2.3.1//EN
TZID:Europe/Berlin
X-WR-TIMEZONE:Europe/Berlin
BEGIN:VEVENT
UID:147233@rauszeit-termine.org
DTSTART;TZID=Europe/Berlin:20250420T131200
DTEND;TZID=Europe/Berlin:20250420T131200
DTSTAMP:20250419T212849Z
URL:https://rauszeit-termine.org/events/153511/
SUMMARY:Keine Osterdemo in Dorfmark!
DESCRIPTION:Die #Ludendorffer sind bisher nicht nach Dorfmark im Heidekreis
  gekommen! Das ist ein riesiger Erfolg für die antifaschistischen Protest
 e der letzten Jahre!\nDa keine Ludendorffer da sind\, werden wir morgen ni
 cht demonstrieren. Vielen herzlichen Dank an alle Antifas\, die sich den T
 ag freigehalten haben!
ATTACH;FMTTYPE=image/jpeg:https://rauszeit-termine.org/wp-content/uploads/
 2025/04/dorfmark.webp
CATEGORIES:Demo
END:VEVENT
BEGIN:VTIMEZONE
TZID:Europe/Berlin
X-LIC-LOCATION:Europe/Berlin
BEGIN:DAYLIGHT
DTSTART:20250330T030000
TZOFFSETFROM:+0100
TZOFFSETTO:+0200
TZNAME:CEST
END:DAYLIGHT
END:VTIMEZONE
END:VCALENDAR